BEGIN:VCALENDAR
VERSION:2.0
PRODID:-//Knights of Columbus Dallas Diocese Chapter - ECPv6.15.20//NONSGML v1.0//EN
CALSCALE:GREGORIAN
METHOD:PUBLISH
X-ORIGINAL-URL:https://www.kofcdallas.org
X-WR-CALDESC:Events for Knights of Columbus Dallas Diocese Chapter
REFRESH-INTERVAL;VALUE=DURATION:PT1H
X-Robots-Tag:noindex
X-PUBLISHED-TTL:PT1H
BEGIN:VTIMEZONE
TZID:America/Chicago
BEGIN:DAYLIGHT
TZOFFSETFROM:-0600
TZOFFSETTO:-0500
TZNAME:CDT
DTSTART:20230312T080000
END:DAYLIGHT
BEGIN:STANDARD
TZOFFSETFROM:-0500
TZOFFSETTO:-0600
TZNAME:CST
DTSTART:20231105T070000
END:STANDARD
BEGIN:DAYLIGHT
TZOFFSETFROM:-0600
TZOFFSETTO:-0500
TZNAME:CDT
DTSTART:20240310T080000
END:DAYLIGHT
BEGIN:STANDARD
TZOFFSETFROM:-0500
TZOFFSETTO:-0600
TZNAME:CST
DTSTART:20241103T070000
END:STANDARD
BEGIN:DAYLIGHT
TZOFFSETFROM:-0600
TZOFFSETTO:-0500
TZNAME:CDT
DTSTART:20250309T080000
END:DAYLIGHT
BEGIN:STANDARD
TZOFFSETFROM:-0500
TZOFFSETTO:-0600
TZNAME:CST
DTSTART:20251102T070000
END:STANDARD
END:VTIMEZONE
BEGIN:VEVENT
DTSTART;TZID=America/Chicago:20241108T180000
DTEND;TZID=America/Chicago:20241108T180000
DTSTAMP:20260424T132544
CREATED:20241101T174721Z
LAST-MODIFIED:20241101T175624Z
UID:35585-1731088800-1731088800@www.kofcdallas.org
SUMMARY:KofC 5052 64th Anniversary & Veterans Day Family Dinner - Fri Nov 8
DESCRIPTION:KofC Council 5052 64th Anniversary\n& Veterans Day Family Dinner\nFri. Nov. 8\, 2024 @ 6PM\nFREE for Veterans\nDoors Open 6:00 PM\nDinner 6:30 PM \nMenu: \nTurkey with Gravy\, Mashed Potatoes\, Green Beans\nKey Lime Pie for dessert \nKofC Council 5052\nSpringlake Event Center\n2280 Springlake Rd\, Dallas\, TX 75234
URL:https://www.kofcdallas.org/event/kofc-5052-64th-anniversary-veterans-day-family-dinner-fri-nov-8/
LOCATION:Council 5052\, 2280 Springlake Rd #100\, Farmers Branch\, TX\, 75234\, United States
CATEGORIES:Area Events,Charity
ATTACH;FMTTYPE=image/jpeg:https://www.kofcdallas.org/wp-content/uploads/2024/11/KofC-5052_November_Family_Dinner.jpg
ORGANIZER;CN="Omar Mediano":MAILTO:OMEDIANO@GMAIL.COM
END:VEVENT
BEGIN:VEVENT
DTSTART;TZID=America/Chicago:20241109T180000
DTEND;TZID=America/Chicago:20241109T180000
DTSTAMP:20260424T132544
CREATED:20241030T161708Z
LAST-MODIFIED:20241030T163716Z
UID:35557-1731175200-1731175200@www.kofcdallas.org
SUMMARY:BINGO at Council 6065
DESCRIPTION:BINGO at Council 6065\nDear Family and Friends\, \nThe Knights of Columbus Santa Maria Council 6065 at St Mark the Evangelist Church in Plano would like to invite you and your friends to attend our St. Mark Bingo Knight on Saturday November 9\, 2024. \nThe purpose of this event is to raise the necessary funds for the numerous activities and projects supported by the Knights for Military and Veteran Organizations\, as well as other Knight charities. \nYou can Pre-Register for $30 online in advance at kc6065 \nPre-Register Here! \nThis Pre-Registration ends 8 PM November 7\, 2024.  It will cost $35 at the door\, the night of our event starting with a Social Hour at 6:00 pm & First Bingo at 7:00pm. Come for the eleven games with great prizes\, and a chance to win a Grand Prize of a $600 Gift Card.  Refreshments and beverages (donations for beer and wine) are the fare for the evening and are included in the cost to attend. \nIf you would like to become a sponsor please contact Carlos Meneses at carlosmeneses0618@gmail.com (214-918-7540) \nAll Level Sponsors are Listed in Bingo Knight Program & K of C Newsletter \nPlatinum Level- $500.00\n3 Free Tickets & Ability to Reserve up to 12 Seats for 11/9/24 Bingo \nGold Level – $250.00\n2 Free Tickets & Ability to Reserve up to 8 Seats for 11/9/24 Bingo \nSilver Level – $100.00\n1 Free Ticket & Ability to Reserve up to 4 Seats for 11/9/24 Bingo \nCome prepared to have an entertaining evening with your family and friends. We especially thank you for your continued support and look forward to seeing you at this very special BINGO KNIGHT. \nSee you at the Bingo\, \nCouncil 6065 \n\n\n\nBINGO en el Consejo 6065\nQuerida familia y amigos\, \nEl Consejo Santa María 6065 de Caballeros de Colón de la Iglesia Evangelista San Marcos en Plano desea invitarlo a usted y a sus amigos a asistir a nuestro St. Mark Bingo Knight el sábado 9 de noviembre de 2024. \nEl propósito de este evento es recaudar los fondos necesarios. por las numerosas actividades y proyectos apoyados por los Caballeros para las Organizaciones Militares y de Veteranos\, así como por otras organizaciones benéficas de los Caballeros. \nPuede preinscribirse por $30 en línea por adelantado en kc6065 \nPre-Register Here! \nEsta preinscripción finaliza a las 8 pm del 7 de noviembre de 2024. Costará $35 en la puerta la noche de nuestro evento\, comenzando con una hora social a las 6:00 pm y el primer bingo a las 7:00 pm. \nVen a disfrutar de los once juegos con grandes premios y la oportunidad de ganar un gran premio de una tarjeta de regalo de $600. Los refrescos y bebidas (donaciones de cerveza y vino) son la tarifa de la noche y están incluidos en el costo de asistencia. \nSi desea ser patrocinador\, comuníquese con Carlos Meneses al correo carlosmeneses0618@gmail.com (214-918-7540) \nTodos los patrocinadores de nivel figuran en el programa Bingo Knight y en el boletín informativo de C de C. \nNivel Platino: $500.00\n3 boletos gratis y posibilidad de reservar hasta 12 asientos para bingo el 9/11/24 \nNivel Oro – $250.00\n2 boletos gratis y posibilidad de reservar hasta 8 asientos para bingo el 9/11/24 \nNivel Plata – $100.00\n1 boleto gratis y posibilidad de reservar hasta 4 asientos para bingo el 9/11/24 \nVen preparado para pasar una velada entretenida con tu familia y amigos. Le agradecemos especialmente su continuo apoyo y esperamos verlo en este BINGO KNIGHT tan especial. \nLos vemos en el Bingo\, \nConcilio 6065
URL:https://www.kofcdallas.org/event/bingo-at-council-6065/
LOCATION:Council 6065\, 1105 W 15th St\, Plano\, 75093
CATEGORIES:Area Events,DDC
ATTACH;FMTTYPE=image/jpeg:https://www.kofcdallas.org/wp-content/uploads/2024/10/c8157454-e731-11ee-a824-ff74ad96456a2Fmedia-manager2F1729608370286-Bingo.jpg
ORGANIZER;CN="Oscar Sanchez":MAILTO:osanchezvalle_7@hotmail.com
END:VEVENT
BEGIN:VEVENT
DTSTART;TZID=America/Chicago:20241121T180000
DTEND;TZID=America/Chicago:20241121T220000
DTSTAMP:20260424T132544
CREATED:20241029T180753Z
LAST-MODIFIED:20241029T181206Z
UID:35550-1732212000-1732226400@www.kofcdallas.org
SUMMARY:Salute to Service
DESCRIPTION:Salute to Service\nCalling All Leaders\nYOU’RE INVITED!\nNOVEMBER 21\, 2024\n6PM–10PM\nJESUIT TERRY CENTER\nJOIN US FOR A NIGHT OF LEADERSHIP\, SERVICE\, AND INSPIRATION. \nGuest of Honor \nSergeant First Class John Wayne Walding\nWe’re honored to host Sergeant First Class John Wayne Walding\, a decorated Green Beret and American hero\, as our guest of honor at this special event. \nThis evening will celebrate leaders in our community while supporting impactful organizations. Food & Beverage provided. \nTickets: $25.00\nSponsorship Table of 8: $2\,500.00 \nClick Here to register or scan the QR code! \nBenefiting St. Vincent de Paul by way of Toys for Tots\, and One Tribe Foundation. \n 
URL:https://www.kofcdallas.org/event/salute-to-service/
LOCATION:Jesuit Terry Center\, 12345 Inwood Rd\, Dallas\, TX\, 75244\, United States
CATEGORIES:4th Degree,Area Events
ATTACH;FMTTYPE=image/jpeg:https://www.kofcdallas.org/wp-content/uploads/2024/10/SaluteToService-img-scaled.jpg
END:VEVENT
END:VCALENDAR