BEGIN:VCALENDAR
VERSION:2.0
PRODID:-//Knights of Columbus Dallas Diocese Chapter - ECPv6.15.20//NONSGML v1.0//EN
CALSCALE:GREGORIAN
METHOD:PUBLISH
X-WR-CALNAME:Knights of Columbus Dallas Diocese Chapter
X-ORIGINAL-URL:https://www.kofcdallas.org
X-WR-CALDESC:Events for Knights of Columbus Dallas Diocese Chapter
REFRESH-INTERVAL;VALUE=DURATION:PT1H
X-Robots-Tag:noindex
X-PUBLISHED-TTL:PT1H
BEGIN:VTIMEZONE
TZID:America/Chicago
BEGIN:DAYLIGHT
TZOFFSETFROM:-0600
TZOFFSETTO:-0500
TZNAME:CDT
DTSTART:20240310T080000
END:DAYLIGHT
BEGIN:STANDARD
TZOFFSETFROM:-0500
TZOFFSETTO:-0600
TZNAME:CST
DTSTART:20241103T070000
END:STANDARD
BEGIN:DAYLIGHT
TZOFFSETFROM:-0600
TZOFFSETTO:-0500
TZNAME:CDT
DTSTART:20250309T080000
END:DAYLIGHT
BEGIN:STANDARD
TZOFFSETFROM:-0500
TZOFFSETTO:-0600
TZNAME:CST
DTSTART:20251102T070000
END:STANDARD
BEGIN:DAYLIGHT
TZOFFSETFROM:-0600
TZOFFSETTO:-0500
TZNAME:CDT
DTSTART:20260308T080000
END:DAYLIGHT
BEGIN:STANDARD
TZOFFSETFROM:-0500
TZOFFSETTO:-0600
TZNAME:CST
DTSTART:20261101T070000
END:STANDARD
END:VTIMEZONE
BEGIN:VEVENT
DTSTART;VALUE=DATE:20250404
DTEND;VALUE=DATE:20250407
DTSTAMP:20260420T141222
CREATED:20250215T000732Z
LAST-MODIFIED:20250215T020908Z
UID:36276-1743724800-1743983999@www.kofcdallas.org
SUMMARY:Knight Up 2025 Faith in Action  Weekend
DESCRIPTION:Knight Up 2025\nOur annual Knight Up Faith in Action weekend is just under 2 months away.\nWe are looking forward to a great year of Projects and Fellowship.\nApril 4-6\, 2025\nRegistration can be found at the link below.\nhttps://www.thepines.org/knightup \nAt the bottom of this link you will also find opportunities to sponsor this event\, as well as a slide deck with this year’s list of projects.\nPlease register as soon as possible so we can get our T-Shirts and food ordered. \nMost everyone will get to build a few picnic tables as well as an additional project on Saturday. \nThese projects will enhance camp and change lives for Christ! \nPlease find a flyer attached for you to share with your council\, chapter\, men’s group\, dad’s group\, ACTS & CHRP Brothers. \n \n  \nGod Bless & Go Trees!!! \nGreg Price\nThe Pines Catholic Camp\nCamp Director\nphone: 940.206.6668\nsite: www.thepines.org\nemail: greg@thepines.org \nIsaiah 40:31 Those who place their hope in the Lord will regain their strength.\nThey will soar as with eagles’ wings\, they will run and not grow weary\, they will walk and not become faint. \n\n\nBrothers\, \nPlease share this through your circle of council and dioceses and social media. \nNeeds are three-fold! \nYou could come with us as a council member alone or with your council to volunteer your time and getaway into the woods for fellowship with your brother Knights. To clarify\, we are staying in good cabins 😊 \nYou could merely sponsor a project by sending money and donating through the website www.thepines.org/KnightUP !! We have a goal to complete $40\,000+ of projects! \nYou could do sponsor a project for your council and assemble a group to come work on your specific project! Which is a favorite of a LOT of people.. \nCome join our team\, for a lot of good hard work\, fellowship\, fun and great FOOD! \nThe Pines is a very WORTHY cause\, thousands of Catholic kids are impacted each year by the pines! Many have become Priest and Sisters and quote they heard their calling at this place! My daughters loves this camp and it is the spiritual\, MASS\, Adoration that she always cites as her favorite parts of the week! \nPlease consider supporting this Knight Up weekend in some sort of fashion and we hope to see you out there for our 3rd Annual Knight Up! \nGod Bless\, \nWatch our career video – https://vimeo.com/718391043. \nLearn more about career opportunities with the Stark Agency of the Knights of Columbus! \nApply today at: https://kofcstarkagency.com/Careers/Find-Out-More.
URL:https://www.kofcdallas.org/event/knight-up-2025-faith-in-action-weekend/
LOCATION:The Pines Catholic Camp\, 321 Private Rd 1010\, Big Sandy\, TX\, 75755\, United States
CATEGORIES:Area Events,Charity
ORGANIZER;CN="Greg Price":MAILTO:greg@thepines.org
END:VEVENT
BEGIN:VEVENT
DTSTART;VALUE=DATE:20250405
DTEND;VALUE=DATE:20250406
DTSTAMP:20260420T141222
CREATED:20250107T174533Z
LAST-MODIFIED:20250107T180652Z
UID:35890-1743811200-1743897599@www.kofcdallas.org
SUMMARY:32nd Annual Bishop’s Pro-Life Dinner
DESCRIPTION:32nd Annual Bishop’s Pro-Life Dinner\nKeynote – David Bereit\nCatholic Pro Life Community
URL:https://www.kofcdallas.org/event/32nd-annual-bishops-pro-life-dinner/
CATEGORIES:Area Events,Clergy
ATTACH;FMTTYPE=image/jpeg:https://www.kofcdallas.org/wp-content/uploads/2025/01/cplc-2020-logo-2.jpg
ORGANIZER;CN="Catholic Pro-Life Community":MAILTO:cplc@prolifedallas.org
END:VEVENT
BEGIN:VEVENT
DTSTART;TZID=America/Chicago:20250413T180000
DTEND;TZID=America/Chicago:20250413T180000
DTSTAMP:20260420T141222
CREATED:20250324T142731Z
LAST-MODIFIED:20250324T142731Z
UID:37366-1744567200-1744567200@www.kofcdallas.org
SUMMARY:CUF Exemplification in Garland at St. Michael Council 11862
DESCRIPTION:CUF Exemplification in Garland at St. Michael Council 11862\nThe Knights of Columbus welcomes new members into the order with an “Exemplification of Charity\, Unity\, and Fraternity“ ceremony. \nCouncil 11862 will hold a CUF Exemplification at St. Michael the Archangel Catholic Church in Garland.  The ceremony will begin after the 5PM mass in Curran Hall which is downstairs from the church. \nCandidates will be contacted by our Membership Director WPGK Chris Rollins \nCandidates are asked to arrive by 6 PM for the ceremony which will start at approximately 6:15 PM. \nSuggested dress code:\nButton down shirt and slacks; tie and sports coat are optional.
URL:https://www.kofcdallas.org/event/cuf-exemplification-in-garland-at-st-michael-council-11862/
LOCATION:St. Michael the Archangel Catholic Church\, 950 Trails Parkway\, Garland\, TX\, 75043\, United States
CATEGORIES:Area Events,Exemplifications
ATTACH;FMTTYPE=image/jpeg:https://www.kofcdallas.org/wp-content/uploads/2018/10/dallas-skyline-daytime-banner-scaled.jpg
ORGANIZER;CN="T.J. Knight":MAILTO:wgk11862@gmail.com
END:VEVENT
BEGIN:VEVENT
DTSTART;TZID=America/Chicago:20250420T160000
DTEND;TZID=America/Chicago:20250420T160000
DTSTAMP:20260420T141222
CREATED:20250416T201652Z
LAST-MODIFIED:20250416T201851Z
UID:37683-1745164800-1745164800@www.kofcdallas.org
SUMMARY:KofC 5052 Easter Egg Hunt - Easter Sunday April 20
DESCRIPTION:KofC Council 5052 Easter Egg Hunt\nEaster Sunday April 20 – 4 PM\nFollowing 3 pm mass / Food – Drinks Provided\nMary Immaculate School Playground\n2800 Valwood Pkwy\, Farmers Branch\, TX 75234
URL:https://www.kofcdallas.org/event/kofc-5052-easter-egg-hunt-easter-sunday-april-20/
LOCATION:Mary Immaculate Catholic Church\, 2800 Valwood Pkwy\, Farmers Branch\, TX\, 75234\, United States
CATEGORIES:Area Events,DDC
ATTACH;FMTTYPE=image/jpeg:https://www.kofcdallas.org/wp-content/uploads/2025/04/council-5052-easter-egg-hunt-2025.jpg
ORGANIZER;CN="Omar Mediano":MAILTO:OMEDIANO@GMAIL.COM
END:VEVENT
BEGIN:VEVENT
DTSTART;VALUE=DATE:20250423
DTEND;VALUE=DATE:20250428
DTSTAMP:20260420T141222
CREATED:20250417T165533Z
LAST-MODIFIED:20250417T175210Z
UID:37690-1745366400-1745798399@www.kofcdallas.org
SUMMARY:Catholic Daughters of the Americas 54th Biennial Texas State Convention
DESCRIPTION:Catholic Daughters of the Americas\n54th Biennial Texas State Convention\nTheme: “Where God guides\, He provides.” (Isaiah 58:11) \nApril 23-27\, 2025\nSheraton Dallas Hotel\n400 N Olive Street \nWe are in need of help getting some members of the Catholic Daughters picked up for their convention. They will all be staying at the Sheraton Downtown Dallas. Please let me know asap if you can help. \nMike Courtney\nDallas Diocesan Deputy\n214-914-0666
URL:https://www.kofcdallas.org/event/catholic-daughters-of-the-americas-54th-biennial-texas-state-convention/
LOCATION:Sheraton Dallas Hotel\, 400 N Olive Street\, Dallas\, 75201
CATEGORIES:Area Events
END:VEVENT
END:VCALENDAR