BEGIN:VCALENDAR
VERSION:2.0
PRODID:-//Knights of Columbus Dallas Diocese Chapter - ECPv6.15.20//NONSGML v1.0//EN
CALSCALE:GREGORIAN
METHOD:PUBLISH
X-ORIGINAL-URL:https://www.kofcdallas.org
X-WR-CALDESC:Events for Knights of Columbus Dallas Diocese Chapter
REFRESH-INTERVAL;VALUE=DURATION:PT1H
X-Robots-Tag:noindex
X-PUBLISHED-TTL:PT1H
BEGIN:VTIMEZONE
TZID:America/Chicago
BEGIN:DAYLIGHT
TZOFFSETFROM:-0600
TZOFFSETTO:-0500
TZNAME:CDT
DTSTART:20230312T080000
END:DAYLIGHT
BEGIN:STANDARD
TZOFFSETFROM:-0500
TZOFFSETTO:-0600
TZNAME:CST
DTSTART:20231105T070000
END:STANDARD
BEGIN:DAYLIGHT
TZOFFSETFROM:-0600
TZOFFSETTO:-0500
TZNAME:CDT
DTSTART:20240310T080000
END:DAYLIGHT
BEGIN:STANDARD
TZOFFSETFROM:-0500
TZOFFSETTO:-0600
TZNAME:CST
DTSTART:20241103T070000
END:STANDARD
BEGIN:DAYLIGHT
TZOFFSETFROM:-0600
TZOFFSETTO:-0500
TZNAME:CDT
DTSTART:20250309T080000
END:DAYLIGHT
BEGIN:STANDARD
TZOFFSETFROM:-0500
TZOFFSETTO:-0600
TZNAME:CST
DTSTART:20251102T070000
END:STANDARD
END:VTIMEZONE
BEGIN:VEVENT
DTSTART;TZID=America/Chicago:20241208T170000
DTEND;TZID=America/Chicago:20241208T170000
DTSTAMP:20260424T132816
CREATED:20241026T155335Z
LAST-MODIFIED:20241026T155511Z
UID:35524-1733677200-1733677200@www.kofcdallas.org
SUMMARY:Redemptoris Mater Seminary Twentieth Anniversary Gala Dinner
DESCRIPTION:Redemptoris Mater Diocesan Missionary Seminary Dallas\nTwentieth Anniversary Gala Dinner\nKeynote Speaker \nMost Rev. Edward J. Burns \nEighth Bishop of the Diocese of Dallas \nPLACE: Union Station 400 South Houston Street • Dallas\, TX 75202 • Sunday\, December 8th\, 2024\, • @ 5pm \n 
URL:https://www.kofcdallas.org/event/redemptoris-mater-seminary-twentieth-anniversary-gala-dinner/
LOCATION:Union Station\, 400 S Houston St\, Dallas\, TX\, 75202\, United States
CATEGORIES:Area Events,Clergy
ATTACH;FMTTYPE=image/png:https://www.kofcdallas.org/wp-content/uploads/2019/02/Logo-Catholic-Diocese-Dallas-RED.png
END:VEVENT
BEGIN:VEVENT
DTSTART;TZID=America/Chicago:20241208T174500
DTEND;TZID=America/Chicago:20241208T174500
DTSTAMP:20260424T132816
CREATED:20241122T022028Z
LAST-MODIFIED:20241122T022028Z
UID:35689-1733679900-1733679900@www.kofcdallas.org
SUMMARY:Exemplification Garland Council 11862
DESCRIPTION:Exemplification Garland Council 11862\nThe Knights of Columbus Council 11862 welcomes its new members with an “Exemplification of Charity\, Unity\, and Fraternity“\, which will be conducted at St Michael The Archangel Catholic Church in Garland\, Texas. \n\n5:45 p.m. Candidates arrive\n6:15 p.m. Ceremony begins\nA light reception will follow in our parish hall\n\nDress code: Button down shirt\, slacks and sport coat; suit and tie optional.
URL:https://www.kofcdallas.org/event/exemplification-garland-council-11862-2024-12-08/
LOCATION:St. Michael the Archangel Catholic Church\, 950 Trails Parkway\, Garland\, TX\, 75043\, United States
CATEGORIES:Area Events,Exemplifications
ATTACH;FMTTYPE=image/jpeg:https://www.kofcdallas.org/wp-content/uploads/2018/10/dallas-skyline-daytime-banner-scaled.jpg
ORGANIZER;CN="Robert%09Duff":MAILTO:rlduff@verizon.net
END:VEVENT
END:VCALENDAR