BEGIN:VCALENDAR
VERSION:2.0
PRODID:-//Knights of Columbus Dallas Diocese Chapter - ECPv6.15.20//NONSGML v1.0//EN
CALSCALE:GREGORIAN
METHOD:PUBLISH
X-WR-CALNAME:Knights of Columbus Dallas Diocese Chapter
X-ORIGINAL-URL:https://www.kofcdallas.org
X-WR-CALDESC:Events for Knights of Columbus Dallas Diocese Chapter
REFRESH-INTERVAL;VALUE=DURATION:PT1H
X-Robots-Tag:noindex
X-PUBLISHED-TTL:PT1H
BEGIN:VTIMEZONE
TZID:America/Chicago
BEGIN:DAYLIGHT
TZOFFSETFROM:-0600
TZOFFSETTO:-0500
TZNAME:CDT
DTSTART:20240310T080000
END:DAYLIGHT
BEGIN:STANDARD
TZOFFSETFROM:-0500
TZOFFSETTO:-0600
TZNAME:CST
DTSTART:20241103T070000
END:STANDARD
BEGIN:DAYLIGHT
TZOFFSETFROM:-0600
TZOFFSETTO:-0500
TZNAME:CDT
DTSTART:20250309T080000
END:DAYLIGHT
BEGIN:STANDARD
TZOFFSETFROM:-0500
TZOFFSETTO:-0600
TZNAME:CST
DTSTART:20251102T070000
END:STANDARD
BEGIN:DAYLIGHT
TZOFFSETFROM:-0600
TZOFFSETTO:-0500
TZNAME:CDT
DTSTART:20260308T080000
END:DAYLIGHT
BEGIN:STANDARD
TZOFFSETFROM:-0500
TZOFFSETTO:-0600
TZNAME:CST
DTSTART:20261101T070000
END:STANDARD
END:VTIMEZONE
BEGIN:VEVENT
DTSTART;TZID=America/Chicago:20250110T120000
DTEND;TZID=America/Chicago:20250110T213000
DTSTAMP:20260424T103155
CREATED:20241207T164535Z
LAST-MODIFIED:20250107T184226Z
UID:35764-1736510400-1736544600@www.kofcdallas.org
SUMMARY:Blessed Michael McGivney Relic Pilgrimage in Dallas Diocese
DESCRIPTION:POSTPONED DUE TO WEATHER!!\nBlessed Michael McGivney Relic Pilgrimage\nJoin Us!\nOpen to the Public\nFriday January 10th 2025\nSt. Mark the Evangelist Catholic Church\n1201 Alma Dr. Plano TX 75075\nHosted by Council 6065 \n\nExpected Guests of Honor \nMost Reverend Bishop Edward Burns \nFr. Jason Cargo\, Pastor \nWorthy Texas State Deputy Ron Alonzo \nFourth Degree Color Corps \nDallas Diocese Brother Knights \n\n\n\nSchedule for Friday Jan 10\, 2025\n\nVeneration: 12:30 PM to 1 PM\nRosary: 1 PM to 1:30 PM – Knights – Council #6065\nMASS: 2 PM TO 3 PM\nVeneration: 3 PM TO 5:30 PM\nMASS: 5:30 PM TO 6:30 PM – English (Relic Exposed)\nExemplification: 6:40 PM TO 7:20 PM – English\nMASS: 7:30 PM TO 8:30 PM – Spanish (Relic Exposed)\nExemplification: 8:35 PM TO 9:00 PM – Spanish
URL:https://www.kofcdallas.org/event/fr-mcgivney-relic-visitation-to-the-dallas-diocese/
LOCATION:St. Mark The Evangelist Catholic Church\, 1201 Alma Dr\, Plano\, TX\, 75075\, United States
CATEGORIES:Area Events,Cancellations,Clergy,Pilgrimage
ATTACH;FMTTYPE=image/jpeg:https://www.kofcdallas.org/wp-content/uploads/2024/12/fr-mcgivney-relic-visitation-2025.jpg
ORGANIZER;CN="Jake Fleischer":MAILTO:johnfleischer7@gmail.com
END:VEVENT
END:VCALENDAR