BEGIN:VCALENDAR
VERSION:2.0
PRODID:-//Knights of Columbus Dallas Diocese Chapter - ECPv6.15.20//NONSGML v1.0//EN
CALSCALE:GREGORIAN
METHOD:PUBLISH
X-WR-CALNAME:Knights of Columbus Dallas Diocese Chapter
X-ORIGINAL-URL:https://www.kofcdallas.org
X-WR-CALDESC:Events for Knights of Columbus Dallas Diocese Chapter
REFRESH-INTERVAL;VALUE=DURATION:PT1H
X-Robots-Tag:noindex
X-PUBLISHED-TTL:PT1H
BEGIN:VTIMEZONE
TZID:America/Chicago
BEGIN:DAYLIGHT
TZOFFSETFROM:-0600
TZOFFSETTO:-0500
TZNAME:CDT
DTSTART:20240310T080000
END:DAYLIGHT
BEGIN:STANDARD
TZOFFSETFROM:-0500
TZOFFSETTO:-0600
TZNAME:CST
DTSTART:20241103T070000
END:STANDARD
BEGIN:DAYLIGHT
TZOFFSETFROM:-0600
TZOFFSETTO:-0500
TZNAME:CDT
DTSTART:20250309T080000
END:DAYLIGHT
BEGIN:STANDARD
TZOFFSETFROM:-0500
TZOFFSETTO:-0600
TZNAME:CST
DTSTART:20251102T070000
END:STANDARD
BEGIN:DAYLIGHT
TZOFFSETFROM:-0600
TZOFFSETTO:-0500
TZNAME:CDT
DTSTART:20260308T080000
END:DAYLIGHT
BEGIN:STANDARD
TZOFFSETFROM:-0500
TZOFFSETTO:-0600
TZNAME:CST
DTSTART:20261101T070000
END:STANDARD
END:VTIMEZONE
BEGIN:VEVENT
DTSTART;TZID=America/Chicago:20250208T143000
DTEND;TZID=America/Chicago:20250208T173000
DTSTAMP:20260420T194943
CREATED:20250203T163159Z
LAST-MODIFIED:20250203T164110Z
UID:36192-1739025000-1739035800@www.kofcdallas.org
SUMMARY:KofC District Free Throw Championship
DESCRIPTION:Knights of Columbus District Free Throw Championship\nThe District championship will be held at St. Joseph Catholic High School 600 S Jupiter Rd\, Richardson\, TX 75081 on Saturday\, February 8\, 2025. \nRegistration will begin at 2:30pm.  The event will last from 3:00pm-5:30pm.\n\nOnce the competition for an age group has been completed\, no late arrivals can be accommodated.\nOnce all age groups have finished\, we will go into the awards ceremony.\n\nWe will have a need for Brother Knights to assist in running the contest.  They must be SEP cleared.
URL:https://www.kofcdallas.org/event/kofc-free-throw-championship-2025-02-08/
LOCATION:St. Joseph Catholic Church\, 600 S Jupiter Rd\, Richardson\, TX\, 75081\, United States
CATEGORIES:Area Events,DDC,Free Throw
ATTACH;FMTTYPE=image/png:https://www.kofcdallas.org/wp-content/uploads/2025/02/image001.png
ORGANIZER;CN="Brian Tooley":MAILTO:briantooley@outlook.com
END:VEVENT
END:VCALENDAR