BEGIN:VCALENDAR
VERSION:2.0
PRODID:-//Knights of Columbus Dallas Diocese Chapter - ECPv6.15.20//NONSGML v1.0//EN
CALSCALE:GREGORIAN
METHOD:PUBLISH
X-WR-CALNAME:Knights of Columbus Dallas Diocese Chapter
X-ORIGINAL-URL:https://www.kofcdallas.org
X-WR-CALDESC:Events for Knights of Columbus Dallas Diocese Chapter
REFRESH-INTERVAL;VALUE=DURATION:PT1H
X-Robots-Tag:noindex
X-PUBLISHED-TTL:PT1H
BEGIN:VTIMEZONE
TZID:America/Chicago
BEGIN:DAYLIGHT
TZOFFSETFROM:-0600
TZOFFSETTO:-0500
TZNAME:CDT
DTSTART:20240310T080000
END:DAYLIGHT
BEGIN:STANDARD
TZOFFSETFROM:-0500
TZOFFSETTO:-0600
TZNAME:CST
DTSTART:20241103T070000
END:STANDARD
BEGIN:DAYLIGHT
TZOFFSETFROM:-0600
TZOFFSETTO:-0500
TZNAME:CDT
DTSTART:20250309T080000
END:DAYLIGHT
BEGIN:STANDARD
TZOFFSETFROM:-0500
TZOFFSETTO:-0600
TZNAME:CST
DTSTART:20251102T070000
END:STANDARD
BEGIN:DAYLIGHT
TZOFFSETFROM:-0600
TZOFFSETTO:-0500
TZNAME:CDT
DTSTART:20260308T080000
END:DAYLIGHT
BEGIN:STANDARD
TZOFFSETFROM:-0500
TZOFFSETTO:-0600
TZNAME:CST
DTSTART:20261101T070000
END:STANDARD
END:VTIMEZONE
BEGIN:VEVENT
DTSTART;TZID=America/Chicago:20250531T123000
DTEND;TZID=America/Chicago:20250531T163000
DTSTAMP:20260420T052423
CREATED:20250421T130550Z
LAST-MODIFIED:20250527T145707Z
UID:37712-1748694600-1748709000@www.kofcdallas.org
SUMMARY:Blessed Michael McGivney Relic Pilgrimage at St. Mark’s
DESCRIPTION:Blessed Michael McGivney Relic Pilgrimage\nJoin Us!\nOpen to the Public\nSaturday\, May 31st\, 2025\n12:30 PM\nSt. Mark the Evangelist Catholic Church\n1201 Alma Dr. Plano TX 75075\nHosted by Council 6065\nGuests of Honor \nMost Reverend Bishop Edward Burns \nFr. Jason Cargo\, Pastor \nTexas State Deputy Ron Alonzo \nKnights of Columbus Fourth Degree Color Corps \nDallas Diocese Knights of Columbus \n\nSaturday – May 31\, 2025\nSt. Mark the Evangelist Catholic Church\n\n12:30 pm Procession & Placement of Relic\n12:45–1:30 pm Bi-Lingual Rosary\n1:30–2:00 pm Veneration & Intentions\n2:00–3:00 pm Votive Mass\n3:00–4:25 pm CUF New Members (English & Spanish)\n4:25–4:30 pm Gathering of Intentions\, Recessional Removal of Relic
URL:https://www.kofcdallas.org/event/blessed-michael-mcgivney-relic-event-at-st-marks-2025-05-31/
LOCATION:St. Mark The Evangelist Catholic Church\, 1201 Alma Dr\, Plano\, TX\, 75075\, United States
CATEGORIES:Area Events,Pilgrimage
ATTACH;FMTTYPE=image/jpeg:https://www.kofcdallas.org/wp-content/uploads/2025/01/Clergy-Appreciation-2025-8104-LRc.jpg
ORGANIZER;CN="Michael Kells-Murphy":MAILTO:mkellsm@gmail.com
END:VEVENT
END:VCALENDAR