BEGIN:VCALENDAR
VERSION:2.0
PRODID:-//Knights of Columbus Dallas Diocese Chapter - ECPv6.15.20//NONSGML v1.0//EN
CALSCALE:GREGORIAN
METHOD:PUBLISH
X-ORIGINAL-URL:https://www.kofcdallas.org
X-WR-CALDESC:Events for Knights of Columbus Dallas Diocese Chapter
REFRESH-INTERVAL;VALUE=DURATION:PT1H
X-Robots-Tag:noindex
X-PUBLISHED-TTL:PT1H
BEGIN:VTIMEZONE
TZID:America/Chicago
BEGIN:DAYLIGHT
TZOFFSETFROM:-0600
TZOFFSETTO:-0500
TZNAME:CDT
DTSTART:20240310T080000
END:DAYLIGHT
BEGIN:STANDARD
TZOFFSETFROM:-0500
TZOFFSETTO:-0600
TZNAME:CST
DTSTART:20241103T070000
END:STANDARD
BEGIN:DAYLIGHT
TZOFFSETFROM:-0600
TZOFFSETTO:-0500
TZNAME:CDT
DTSTART:20250309T080000
END:DAYLIGHT
BEGIN:STANDARD
TZOFFSETFROM:-0500
TZOFFSETTO:-0600
TZNAME:CST
DTSTART:20251102T070000
END:STANDARD
BEGIN:DAYLIGHT
TZOFFSETFROM:-0600
TZOFFSETTO:-0500
TZNAME:CDT
DTSTART:20260308T080000
END:DAYLIGHT
BEGIN:STANDARD
TZOFFSETFROM:-0500
TZOFFSETTO:-0600
TZNAME:CST
DTSTART:20261101T070000
END:STANDARD
END:VTIMEZONE
BEGIN:VEVENT
DTSTART;TZID=America/Chicago:20251108T103000
DTEND;TZID=America/Chicago:20251108T180000
DTSTAMP:20260421T103934
CREATED:20250913T161753Z
LAST-MODIFIED:20250913T161912Z
UID:43065-1762597800-1762624800@www.kofcdallas.org
SUMMARY:EXEMPLIFICATION OF PATRIOTISM
DESCRIPTION:EXEMPLIFICATION OF PATRIOTISM\nSATURDAY November 8th\, 2025\nHONORING:\nSK Fr. Loyd Dean Morris\, HPFN\nHOST:\nSK Kevin McGillis\, DM 3 \nOur Lady of Guadalupe Province \nHost Assembly:\nMother Teresa #2506 & Council 12300 \nLocation:\nSt. Anthony Catholic Church\n404 N. Ballard – Wylie\, TX 75098\n972-442-2765 \n\n 
URL:https://www.kofcdallas.org/event/exemplification-of-patriotism-2025-11/
LOCATION:St. Ann Catholic Church\, 806 N Washington St\, Kaufman\, TX\, 75142\, United States
CATEGORIES:4th Degree,Exemplifications
ATTACH;FMTTYPE=image/png:https://www.kofcdallas.org/wp-content/uploads/2025/09/4th_degree-clr-horizontal.png
ORGANIZER;CN="Kevin McGillis":MAILTO:kevinmcgillis1956@gmail.com
END:VEVENT
END:VCALENDAR