BEGIN:VCALENDAR
VERSION:2.0
PRODID:-//Knights of Columbus Dallas Diocese Chapter - ECPv6.15.20//NONSGML v1.0//EN
CALSCALE:GREGORIAN
METHOD:PUBLISH
X-ORIGINAL-URL:https://www.kofcdallas.org
X-WR-CALDESC:Events for Knights of Columbus Dallas Diocese Chapter
REFRESH-INTERVAL;VALUE=DURATION:PT1H
X-Robots-Tag:noindex
X-PUBLISHED-TTL:PT1H
BEGIN:VTIMEZONE
TZID:America/Chicago
BEGIN:DAYLIGHT
TZOFFSETFROM:-0600
TZOFFSETTO:-0500
TZNAME:CDT
DTSTART:20240310T080000
END:DAYLIGHT
BEGIN:STANDARD
TZOFFSETFROM:-0500
TZOFFSETTO:-0600
TZNAME:CST
DTSTART:20241103T070000
END:STANDARD
BEGIN:DAYLIGHT
TZOFFSETFROM:-0600
TZOFFSETTO:-0500
TZNAME:CDT
DTSTART:20250309T080000
END:DAYLIGHT
BEGIN:STANDARD
TZOFFSETFROM:-0500
TZOFFSETTO:-0600
TZNAME:CST
DTSTART:20251102T070000
END:STANDARD
BEGIN:DAYLIGHT
TZOFFSETFROM:-0600
TZOFFSETTO:-0500
TZNAME:CDT
DTSTART:20260308T080000
END:DAYLIGHT
BEGIN:STANDARD
TZOFFSETFROM:-0500
TZOFFSETTO:-0600
TZNAME:CST
DTSTART:20261101T070000
END:STANDARD
END:VTIMEZONE
BEGIN:VEVENT
DTSTART;TZID=America/Chicago:20250723T190000
DTEND;TZID=America/Chicago:20250723T203000
DTSTAMP:20260420T141316
CREATED:20250625T004039Z
LAST-MODIFIED:20250711T182312Z
UID:39715-1753297200-1753302600@www.kofcdallas.org
SUMMARY:SEP Training for Site Admins and Directors
DESCRIPTION:SEP Training for Site Admins and Directors\nJorge Ruiz and the Dallas Diocese Chapter SEP team are inviting you to a scheduled Zoom meeting. Come learn everything you need to know to successfully manage your council’s Safe Environment Program with the new tools we have created for you for that purpose. \nTopic: SEP Training for Site Admins and Directors\nTime: Jul 23\, 2025 07:00 PM Central Time (US and Canada) \nJoin Zoom Meeting\nhttps://zoom.us/j/97113479623?pwd=olb3UDmH3GhJi7hsjjBgr9TimJFOUU.1 \nMeeting ID: 971 1347 9623\nPasscode: 790141 \n— \nOne tap mobile\n+13462487799\,\,97113479623#\,\,\,\,*790141# US (Houston)\n+16694449171\,\,97113479623#\,\,\,\,*790141# US \n— \nDial by your location\n• +1 346 248 7799 US (Houston)\n• +1 669 444 9171 US\n• +1 669 900 6833 US (San Jose)\n• +1 719 359 4580 US\n• +1 253 205 0468 US\n• +1 253 215 8782 US (Tacoma)\n• +1 386 347 5053 US\n• +1 507 473 4847 US\n• +1 564 217 2000 US\n• +1 646 931 3860 US\n• +1 689 278 1000 US\n• +1 929 205 6099 US (New York)\n• +1 301 715 8592 US (Washington DC)\n• +1 305 224 1968 US\n• +1 309 205 3325 US\n• +1 312 626 6799 US (Chicago)\n• +1 360 209 5623 US \nMeeting ID: 971 1347 9623\nPasscode: 790141 \nFind your local number: https://zoom.us/u/aNgllvzBB \n 
URL:https://www.kofcdallas.org/event/sep-training-for-site-admins-and-directors/
CATEGORIES:DDC,Safe Environment
ATTACH;FMTTYPE=image/png:https://www.kofcdallas.org/wp-content/uploads/2023/02/kofc_r_hz_rgb_pos.png
ORGANIZER;CN="Jorge Ruiz":MAILTO:jorge@jorgeruiz.net
END:VEVENT
BEGIN:VEVENT
DTSTART;TZID=America/Chicago:20250724T190000
DTEND;TZID=America/Chicago:20250724T203000
DTSTAMP:20260420T141316
CREATED:20250519T180332Z
LAST-MODIFIED:20250519T180332Z
UID:38935-1753383600-1753389000@www.kofcdallas.org
SUMMARY:Safe Environment Program Training
DESCRIPTION:Safe Environment Program Training\nDDC SEP Virtual training meeting / Webinar \nThursday\, July 24\, 2025 at 7:00 PM Central Time\nThe Dallas Diocese Chapter of the Knights of Columbus is providing Safe Environment Program Training for all brother knights who are active in council and parish activities but are not members of a parish ministry. \nIf your council has submitted their roster for use in our DDC SEP compliance system\, you should be able to login.\nIf you cannot login contact your Grand Knight or your Council’s SEP Director. \nClick Here To Login and To Learn More \n\n\n\n. \nSK Chuck Johnson PGK\nDallas Diocese Chapter (DDC) Training Director\n214-886-7774\nmrchuckj@gmail.com \nhttps://www.kofcdallas.org/
URL:https://www.kofcdallas.org/event/safe-environment-program-training-2025-07-24/
CATEGORIES:Safe Environment
ATTACH;FMTTYPE=image/png:https://www.kofcdallas.org/wp-content/uploads/2023/02/kofc_r_hz_rgb_pos.png
ORGANIZER;CN="Chuck Johnson":MAILTO:mrchuckj@gmail.com
END:VEVENT
END:VCALENDAR