BEGIN:VCALENDAR
VERSION:2.0
PRODID:-//Knights of Columbus Dallas Diocese Chapter - ECPv6.15.20//NONSGML v1.0//EN
CALSCALE:GREGORIAN
METHOD:PUBLISH
X-ORIGINAL-URL:https://www.kofcdallas.org
X-WR-CALDESC:Events for Knights of Columbus Dallas Diocese Chapter
REFRESH-INTERVAL;VALUE=DURATION:PT1H
X-Robots-Tag:noindex
X-PUBLISHED-TTL:PT1H
BEGIN:VTIMEZONE
TZID:America/Chicago
BEGIN:DAYLIGHT
TZOFFSETFROM:-0600
TZOFFSETTO:-0500
TZNAME:CDT
DTSTART:20240310T080000
END:DAYLIGHT
BEGIN:STANDARD
TZOFFSETFROM:-0500
TZOFFSETTO:-0600
TZNAME:CST
DTSTART:20241103T070000
END:STANDARD
BEGIN:DAYLIGHT
TZOFFSETFROM:-0600
TZOFFSETTO:-0500
TZNAME:CDT
DTSTART:20250309T080000
END:DAYLIGHT
BEGIN:STANDARD
TZOFFSETFROM:-0500
TZOFFSETTO:-0600
TZNAME:CST
DTSTART:20251102T070000
END:STANDARD
BEGIN:DAYLIGHT
TZOFFSETFROM:-0600
TZOFFSETTO:-0500
TZNAME:CDT
DTSTART:20260308T080000
END:DAYLIGHT
BEGIN:STANDARD
TZOFFSETFROM:-0500
TZOFFSETTO:-0600
TZNAME:CST
DTSTART:20261101T070000
END:STANDARD
END:VTIMEZONE
BEGIN:VEVENT
DTSTART;TZID=America/Chicago:20250925T190000
DTEND;TZID=America/Chicago:20250925T203000
DTSTAMP:20260420T071931
CREATED:20250903T204702Z
LAST-MODIFIED:20250919T202953Z
UID:42875-1758826800-1758832200@www.kofcdallas.org
SUMMARY:September 2025 DDC SEP Virtual Training
DESCRIPTION:Safe Environment Program Virtual Training\n\nThursday\, September 25\, 2025 at 7:00 PM Central Time\nTo Join Zoom Meeting\n\n\n\n\n\n\n\nLogin to our website\, select the training from the dropdown options and click Register. \nREGISTER NOW \n\nIf you need to complete your SEP training and haven’t registered yet\, join us on Thursday\, September 25th at 7 PM to take your Safe Environment Program training and become SEP compliant. \nLearn more at: \n\nhttps://www.kofcdallas.org/programs/safe-environment/
URL:https://www.kofcdallas.org/event/september-2025-ddc-sep-virtual-training/
CATEGORIES:Safe Environment
ATTACH;FMTTYPE=image/jpeg:https://www.kofcdallas.org/wp-content/uploads/2024/07/ddc-sep-booklet-2024-07-09.jpg
END:VEVENT
END:VCALENDAR